BEGIN:VCALENDAR
VERSION:2.0
PRODID:-//178.20.102.36//NONSGML kigkonsult.se iCalcreator 2.20//
CALSCALE:GREGORIAN
METHOD:PUBLISH
X-WR-TIMEZONE:UTC
BEGIN:VEVENT
UID:event41@Joomla! User Group Sauerland
DTSTAMP:20260422T153005Z
CATEGORIES:Joomla! User Group Sauerland
DESCRIPTION:JUG Sauerland Treffen\nKategorie: Joomla! User Group Sauerland
 \nICS-Link: https://www.jug-sauerland.de/index.php?option=com_jem&view=eve
 nt&id=41:jug-sauerland-treffen\n
DTSTART:20260915T190000Z
DTEND:20260915T190000Z
LOCATION:Martina und Markus Wortmann\,Max Schulze-Sölde Weg 8\,59519 Möhnes
 ee
SUMMARY:JUG Sauerland Treffen
URL:https://www.jug-sauerland.de/index.php?option=com_jem&view=event&id=41:
 jug-sauerland-treffen
END:VEVENT
END:VCALENDAR